BEGIN:VCALENDAR
VERSION:2.0
PRODID:-//IMDAuctions//Auction Calendar//EN
CALSCALE:GREGORIAN
METHOD:PUBLISH
BEGIN:VEVENT
UID:auction-e450d620-b72d-413a-92c0-920c2b1f9eec@imdauctions.com
DTSTAMP:20260419T211301Z
DTSTART:20260420T090000Z
DTEND:20260429T100000Z
SUMMARY:J&L Gear Company
DESCRIPTION:CNC Machining Centers\n\n2012 Haas Model VF-2 CNC Vertical Machining Center\, S/N 1098453\, 20-station ATC\, 16 x 36 x 20 capacity\, 16 x 36 inch T-slot table\, scrap auger\, Haas CNC control\, assorted Lynd\n\nClick to Bid: https://www.bidspotter.com/en-us/auction-catalogues/glenn-a-winternitz-llc/catalogue-id-bscgl10188\n\nView Details: https://imdauctions.com/auctions/jandl-gear-company
LOCATION:IL
URL:https://imdauctions.com/auctions/jandl-gear-company
STATUS:CONFIRMED
SEQUENCE:0
END:VEVENT
END:VCALENDAR