BEGIN:VCALENDAR
VERSION:2.0
PRODID:-//IMDAuctions//Auction Calendar//EN
CALSCALE:GREGORIAN
METHOD:PUBLISH
BEGIN:VEVENT
UID:auction-d44d46e3-da23-4275-aad7-74023d013a55@imdauctions.com
DTSTAMP:20260422T130331Z
DTSTART:20260430T100000Z
DTEND:20260514T100000Z
SUMMARY:Food & Beverage Processing and Packaging Equipment Auction
DESCRIPTION:Multi-Location - See Lots for Details\n\nClick to Bid: https://www.bidspotter.com/en-us/auction-catalogues/bscsig/catalogue-id-sigma-10205\n\nView Details: https://imdauctions.com/auctions/food-and-beverage-processing-and-packaging-equipment-auction
LOCATION:Multi-Location
URL:https://imdauctions.com/auctions/food-and-beverage-processing-and-packaging-equipment-auction
STATUS:CONFIRMED
SEQUENCE:0
END:VEVENT
END:VCALENDAR