BEGIN:VCALENDAR
VERSION:2.0
PRODID:-//IMDAuctions//Auction Calendar//EN
CALSCALE:GREGORIAN
METHOD:PUBLISH
BEGIN:VEVENT
UID:auction-73e0a536-c363-450f-b412-e3f4fc709f5b@imdauctions.com
DTSTAMP:20260424T114111Z
DTSTART:20260519T100000Z
DTEND:20260519T100000Z
SUMMARY:Modern Sheet Metal Fabrication Facility
DESCRIPTION:Late Model CNC / Fabrication Equipment\n\n2015 Amada ENSIS 3015 AJ Fiber Laser – 2.1kW\, 5' x 10' Table\n2010 Amada RG M2 1003 CNC Press Brake – 100 Ton\, 10' Bed\n2022 Nargesa CC60 CNC Mandrel Tube Ben\n\nClick to Bid: https://auction.rosensystems.com/auctions/10366-poseidon-productions-inc-dba-extreme-engineering-bk-26-60077\n\nView Details: https://imdauctions.com/auctions/modern-sheet-metal-fabrication-facility
LOCATION:TX
URL:https://imdauctions.com/auctions/modern-sheet-metal-fabrication-facility
STATUS:CONFIRMED
SEQUENCE:0
END:VEVENT
END:VCALENDAR